BEGIN:VCALENDAR
VERSION:2.0
PRODID:-//TriStar Digital Thread Solutions - ECPv6.15.20//NONSGML v1.0//EN
CALSCALE:GREGORIAN
METHOD:PUBLISH
X-WR-CALNAME:TriStar Digital Thread Solutions
X-ORIGINAL-URL:https://www.tristar.com
X-WR-CALDESC:Events for TriStar Digital Thread Solutions
REFRESH-INTERVAL;VALUE=DURATION:PT1H
X-Robots-Tag:noindex
X-PUBLISHED-TTL:PT1H
BEGIN:VTIMEZONE
TZID:America/New_York
BEGIN:DAYLIGHT
TZOFFSETFROM:-0500
TZOFFSETTO:-0400
TZNAME:EDT
DTSTART:20230312T070000
END:DAYLIGHT
BEGIN:STANDARD
TZOFFSETFROM:-0400
TZOFFSETTO:-0500
TZNAME:EST
DTSTART:20231105T060000
END:STANDARD
BEGIN:DAYLIGHT
TZOFFSETFROM:-0500
TZOFFSETTO:-0400
TZNAME:EDT
DTSTART:20240310T070000
END:DAYLIGHT
BEGIN:STANDARD
TZOFFSETFROM:-0400
TZOFFSETTO:-0500
TZNAME:EST
DTSTART:20241103T060000
END:STANDARD
BEGIN:DAYLIGHT
TZOFFSETFROM:-0500
TZOFFSETTO:-0400
TZNAME:EDT
DTSTART:20250309T070000
END:DAYLIGHT
BEGIN:STANDARD
TZOFFSETFROM:-0400
TZOFFSETTO:-0500
TZNAME:EST
DTSTART:20251102T060000
END:STANDARD
END:VTIMEZONE
BEGIN:VEVENT
DTSTART;TZID=America/New_York:20241212T090000
DTEND;TZID=America/New_York:20241212T170000
DTSTAMP:20260422T090347
CREATED:20241106T155926Z
LAST-MODIFIED:20241120T204738Z
UID:31870-1733994000-1734022800@www.tristar.com
SUMMARY:Carolinas PRO/PTC User Group Event
DESCRIPTION:Register NowRegistration for the 2024 Winter Event at WFIRM of Winston Salem is Open!You do not want to miss this awesome Event at Wake Forest Institute for Regenerative Medicine (WFIRM) in Winston-Salem\, NC! \nAgendaRegister Now \n\n  \n\n\n\n\n\n\n\n\n\n\n\n\n\n\n\n\n \n\n\n\n\n\n\nNumber of Employees*\n1-2021-5051-100101-250251-500501-1\,0001\,001-5\,0005\,001-10\,000More than 10\,000\n\n\n\nSubscribe to our newsletter\n\n\n\n\n\n\n\n\n\n\n\n\n\nΔ ×\n\n\n 0
URL:https://www.tristar.com/event/carolinas-pro-ptc-user-group-event__trashed/
LOCATION:Richard H. Dean Biomedical Building\, 575 Patterson Ave.\, Winston-Salem\, NC\, 27101\, United States
CATEGORIES:Live Events
ATTACH;FMTTYPE=image/png:https://www.tristar.com/wp-content/uploads/2024/11/cropped-New-Pro-PTC-User-Green-Gray-Logo2-01.png
END:VEVENT
END:VCALENDAR