BEGIN:VCALENDAR
VERSION:2.0
PRODID:-//TriStar Digital Thread Solutions - ECPv6.15.20//NONSGML v1.0//EN
CALSCALE:GREGORIAN
METHOD:PUBLISH
X-ORIGINAL-URL:https://www.tristar.com
X-WR-CALDESC:Events for TriStar Digital Thread Solutions
REFRESH-INTERVAL;VALUE=DURATION:PT1H
X-Robots-Tag:noindex
X-PUBLISHED-TTL:PT1H
BEGIN:VTIMEZONE
TZID:America/Chicago
BEGIN:DAYLIGHT
TZOFFSETFROM:-0600
TZOFFSETTO:-0500
TZNAME:CDT
DTSTART:20240310T080000
END:DAYLIGHT
BEGIN:STANDARD
TZOFFSETFROM:-0500
TZOFFSETTO:-0600
TZNAME:CST
DTSTART:20241103T070000
END:STANDARD
BEGIN:DAYLIGHT
TZOFFSETFROM:-0600
TZOFFSETTO:-0500
TZNAME:CDT
DTSTART:20250309T080000
END:DAYLIGHT
BEGIN:STANDARD
TZOFFSETFROM:-0500
TZOFFSETTO:-0600
TZNAME:CST
DTSTART:20251102T070000
END:STANDARD
BEGIN:DAYLIGHT
TZOFFSETFROM:-0600
TZOFFSETTO:-0500
TZNAME:CDT
DTSTART:20260308T080000
END:DAYLIGHT
BEGIN:STANDARD
TZOFFSETFROM:-0500
TZOFFSETTO:-0600
TZNAME:CST
DTSTART:20261101T070000
END:STANDARD
END:VTIMEZONE
BEGIN:VEVENT
DTSTART;TZID=America/Chicago:20250424T150000
DTEND;TZID=America/Chicago:20250424T210000
DTSTAMP:20260422T023353
CREATED:20250321T164050Z
LAST-MODIFIED:20250422T210814Z
UID:32901-1745506800-1745528400@www.tristar.com
SUMMARY:PTC/User Alabama Group at L3Harris Event
DESCRIPTION:Register NowThe Alabama PTC/USER Group invites you for an afternoon filled with networking\, expert discussion\, and FREE food!Join us on April 24th to discuss all things CAD & PLM! \nCheck out the agenda below: \n2:45 PM – Check-in \n3:00 PM – Introductions\, logistics\, and agenda review \n3:15 – 4:00 PM – Start Parts in CREO Parametric with Shawn S. (TriStar) \n4:00 – 4:45 PM – Modelcheck with Allyssa S. (L3Harris) \n4:45 – 5:30 PM – MBD Small Steps with Ryan B. (L3Harris) \n5:30 – 6:15 PM – Dinner Break (provided for attendees) \n6:15 – 7:00 PM – Design Document vs. Physical Part Management in Windchill with Bryan E. (TriStar) \n7:00 – 7:45 PM – CREO for Manufacturing with Bart B. (Design Engine) \n7:45 – 8:30 PM – Digital Thread for Service BOMs\, Parts Lists\, Illustrations and Tech Manuals to include formatting with MIL-STD requirements with Andrew Burke. (TriStar) \n8:30 – 9:00 PM – Q&A\, wrap-up\, and door prizes \nRegister Now \n\n  \n\n\n\n\n\n\n\n\n\n\n\n\n\n\n\n\n \n\n\n\n\n\n\nNumber of Employees*\n1-2021-5051-100101-250251-500501-1\,0001\,001-5\,0005\,001-10\,000More than 10\,000\n\n\n\nSubscribe to our newsletter\n\n\n\n\n\n\n\n\n\n\n\n\n\nΔ ×\n\n\n 0
URL:https://www.tristar.com/event/alabama-ptcuser-april-2025__trashed/
LOCATION:L3Harris\, 950 Explorer Blvd NW\, Huntsville\, AL\, 35806\, United States
CATEGORIES:Live Events
ATTACH;FMTTYPE=image/jpeg:https://www.tristar.com/wp-content/uploads/2025/03/PTCUser-Alabama-2025-n.jpg
END:VEVENT
END:VCALENDAR