BEGIN:VCALENDAR
VERSION:2.0
PRODID:-//TriStar Digital Thread Solutions - ECPv6.15.20//NONSGML v1.0//EN
CALSCALE:GREGORIAN
METHOD:PUBLISH
X-WR-CALNAME:TriStar Digital Thread Solutions
X-ORIGINAL-URL:https://www.tristar.com
X-WR-CALDESC:Events for TriStar Digital Thread Solutions
REFRESH-INTERVAL;VALUE=DURATION:PT1H
X-Robots-Tag:noindex
X-PUBLISHED-TTL:PT1H
BEGIN:VTIMEZONE
TZID:America/Chicago
BEGIN:DAYLIGHT
TZOFFSETFROM:-0600
TZOFFSETTO:-0500
TZNAME:CDT
DTSTART:20250309T080000
END:DAYLIGHT
BEGIN:STANDARD
TZOFFSETFROM:-0500
TZOFFSETTO:-0600
TZNAME:CST
DTSTART:20251102T070000
END:STANDARD
BEGIN:DAYLIGHT
TZOFFSETFROM:-0600
TZOFFSETTO:-0500
TZNAME:CDT
DTSTART:20260308T080000
END:DAYLIGHT
BEGIN:STANDARD
TZOFFSETFROM:-0500
TZOFFSETTO:-0600
TZNAME:CST
DTSTART:20261101T070000
END:STANDARD
BEGIN:DAYLIGHT
TZOFFSETFROM:-0600
TZOFFSETTO:-0500
TZNAME:CDT
DTSTART:20270314T080000
END:DAYLIGHT
BEGIN:STANDARD
TZOFFSETFROM:-0500
TZOFFSETTO:-0600
TZNAME:CST
DTSTART:20271107T070000
END:STANDARD
END:VTIMEZONE
BEGIN:VTIMEZONE
TZID:America/New_York
BEGIN:DAYLIGHT
TZOFFSETFROM:-0500
TZOFFSETTO:-0400
TZNAME:EDT
DTSTART:20250309T070000
END:DAYLIGHT
BEGIN:STANDARD
TZOFFSETFROM:-0400
TZOFFSETTO:-0500
TZNAME:EST
DTSTART:20251102T060000
END:STANDARD
BEGIN:DAYLIGHT
TZOFFSETFROM:-0500
TZOFFSETTO:-0400
TZNAME:EDT
DTSTART:20260308T070000
END:DAYLIGHT
BEGIN:STANDARD
TZOFFSETFROM:-0400
TZOFFSETTO:-0500
TZNAME:EST
DTSTART:20261101T060000
END:STANDARD
BEGIN:DAYLIGHT
TZOFFSETFROM:-0500
TZOFFSETTO:-0400
TZNAME:EDT
DTSTART:20270314T070000
END:DAYLIGHT
BEGIN:STANDARD
TZOFFSETFROM:-0400
TZOFFSETTO:-0500
TZNAME:EST
DTSTART:20271107T060000
END:STANDARD
END:VTIMEZONE
BEGIN:VTIMEZONE
TZID:America/Phoenix
BEGIN:STANDARD
TZOFFSETFROM:-0700
TZOFFSETTO:-0700
TZNAME:MST
DTSTART:20250101T000000
END:STANDARD
END:VTIMEZONE
BEGIN:VTIMEZONE
TZID:America/Los_Angeles
BEGIN:DAYLIGHT
TZOFFSETFROM:-0800
TZOFFSETTO:-0700
TZNAME:PDT
DTSTART:20250309T100000
END:DAYLIGHT
BEGIN:STANDARD
TZOFFSETFROM:-0700
TZOFFSETTO:-0800
TZNAME:PST
DTSTART:20251102T090000
END:STANDARD
BEGIN:DAYLIGHT
TZOFFSETFROM:-0800
TZOFFSETTO:-0700
TZNAME:PDT
DTSTART:20260308T100000
END:DAYLIGHT
BEGIN:STANDARD
TZOFFSETFROM:-0700
TZOFFSETTO:-0800
TZNAME:PST
DTSTART:20261101T090000
END:STANDARD
BEGIN:DAYLIGHT
TZOFFSETFROM:-0800
TZOFFSETTO:-0700
TZNAME:PDT
DTSTART:20270314T100000
END:DAYLIGHT
BEGIN:STANDARD
TZOFFSETFROM:-0700
TZOFFSETTO:-0800
TZNAME:PST
DTSTART:20271107T090000
END:STANDARD
END:VTIMEZONE
BEGIN:VTIMEZONE
TZID:America/Denver
BEGIN:DAYLIGHT
TZOFFSETFROM:-0700
TZOFFSETTO:-0600
TZNAME:MDT
DTSTART:20250309T090000
END:DAYLIGHT
BEGIN:STANDARD
TZOFFSETFROM:-0600
TZOFFSETTO:-0700
TZNAME:MST
DTSTART:20251102T080000
END:STANDARD
BEGIN:DAYLIGHT
TZOFFSETFROM:-0700
TZOFFSETTO:-0600
TZNAME:MDT
DTSTART:20260308T090000
END:DAYLIGHT
BEGIN:STANDARD
TZOFFSETFROM:-0600
TZOFFSETTO:-0700
TZNAME:MST
DTSTART:20261101T080000
END:STANDARD
BEGIN:DAYLIGHT
TZOFFSETFROM:-0700
TZOFFSETTO:-0600
TZNAME:MDT
DTSTART:20270314T090000
END:DAYLIGHT
BEGIN:STANDARD
TZOFFSETFROM:-0600
TZOFFSETTO:-0700
TZNAME:MST
DTSTART:20271107T080000
END:STANDARD
END:VTIMEZONE
BEGIN:VEVENT
DTSTART;TZID=America/Chicago:20260305T150000
DTEND;TZID=America/Chicago:20260305T210000
DTSTAMP:20260422T155843
CREATED:20260216T155714Z
LAST-MODIFIED:20260216T163144Z
UID:35907-1772722800-1772744400@www.tristar.com
SUMMARY:Huntsville PTC/USER Meeting at Yellowhammer Brewing | Creo & PLM Insights
DESCRIPTION:An Evening of Insights\, Innovation\, Dinner\, Door Prizes\, and Networking at Yellowhammer BrewingJoin fellow engineering and product development professionals for the March Huntsville PTC/USER meeting at Yellowhammer Brewing Company. This in-person event brings together regional industry leaders and PTC experts to explore AI-driven engineering\, advanced modeling strategies\, and PLM best practices\, while creating space to network with peers across the local product development community. \nThe afternoon and evening feature sessions covering AI Assist in Creo and Windchill\, derivative model strategies\, Creo best practices\, and approaches to optimize designs for manufacturability. After a catered dinner break\, the program continues with collaboration and PLM insights before closing with an open town hall discussion and raffle. Attendees gain practical takeaways while connecting with fellow engineers and solution experts. \nDinner provided to all attendees! Why Attend?PTC/USER meetings provide an opportunity to learn directly from practitioners\, exchange ideas\, and see how other organizations solve real engineering challenges. These sessions deliver practical knowledge attendees can apply immediately while strengthening connections across the Huntsville engineering community. \nWith presentations covering AI capabilities\, modeling improvements\, manufacturability optimization\, and PLM strategies\, participants walk away with actionable insights while enjoying dinner and networking in a relaxed environment. What You’ll LearnDuring this event\, you will see how AI Assist enhances productivity within Creo and Windchill\, helping engineering teams streamline everyday workflows and reduce manual effort. Presenters will also demonstrate how verified derivative models and scalable Creo modeling approaches simplify design management while keeping product structures organized and easier to maintain. \nIn addition\, experts will share methods to optimize product designs for manufacturability\, along with practical PLM best practices that improve collaboration\, data reuse\, and downstream efficiency across engineering and product teams. Agenda OverviewThe afternoon begins at 2:30 PM with attendee check-in\, followed by introductions and agenda review from board members. Technical sessions then begin with a look at AI Assist capabilities in Creo and Windchill\, followed by presentations on verified derivative models and Creo modeling best practices delivered by industry experts. \nAfter a catered dinner break\, the evening continues with sessions focused on design optimization for manufacturability and PLM best practices\, before transitioning into an open town hall Q&A discussion. The event concludes around 9:00 PM with final announcements and a raffle\, allowing attendees time to network and connect before departure. Register TodaySpace is limited for this Huntsville PTC/USER event. Reserve your seat now and join fellow engineers for an evening of technical insights\, dinner\, and community networking. \n       \n    0
URL:https://www.tristar.com/event/huntsville-ptc-user-meeting-yellowhammer-brewing/
LOCATION:Yellowhammer Brewing\, 2600 Clinton Ave W\, Huntsville\, 35805\, United States
CATEGORIES:Live Events
ATTACH;FMTTYPE=image/jpeg:https://www.tristar.com/wp-content/uploads/2025/03/iStock-2102829393.jpg
END:VEVENT
BEGIN:VEVENT
DTSTART;TZID=America/New_York:20260325T083000
DTEND;TZID=America/New_York:20260325T163000
DTSTAMP:20260422T155843
CREATED:20260303T174357Z
LAST-MODIFIED:20260303T174357Z
UID:36098-1774427400-1774456200@www.tristar.com
SUMMARY:Georgia PTC/USER Spring Event 2026
DESCRIPTION:AI\, Automation\, MBD\, and Connected EngineeringJoin fellow engineering and PLM professionals for a full day of practical sessions focused on Creo\, Windchill\, AI\, simulation\, MBD\, automation\, and enterprise system integration. This in-person East Cobb PTC/USER meeting brings together industry experts\, customers\, and partners to share technical strategies that improve design workflows and strengthen your digital thread. \nFrom AI-powered assistance inside Creo and Windchill to automation tools and ERP integration discussions\, this agenda balances innovation with real-world application. The day concludes with an open town hall\, raffle\, and brewery tastings. Why Attend?Engineering complexity continues to increase. AI is entering CAD and PLM. Simulation must move earlier in the design cycle. Requirements and test data demand stronger traceability. Meanwhile\, pushing data downstream into MRP\, ERP\, and MES systems requires better planning. \nThis event delivers practical guidance you can apply immediately. You will hear directly from PTC\, industry experts\, and experienced practitioners while networking with peers who face similar challenges. What You’ll LearnYou’ll gain insight into how AI Assist enhances Creo and Windchill workflows\, how simulation supports designers earlier in development\, and how advanced surfacing techniques improve model quality. \nYou’ll also learn why Excel struggles with modern requirements and test management\, how to prepare your organization for Model-Based Definition (MBD)\, and how automation tools inside Creo can accelerate repetitive tasks. The day closes with a strategic look at the pros and cons of pushing engineering data into MRP\, ERP\, and MES systems\, followed by an open Q&A discussion. Agenda OverviewThe day begins with networking and introductions before diving into AI Assist in Creo and Windchill with Brad Cline from PTC. A local customer will share insights on Simulation for Creo Designers\, followed by Bart Brechja from Design Engine presenting Creo Surfacing Tips and Tricks. \nBefore lunch\, Robert Leslie from PTC will explain why using Excel for requirements and test management limits visibility and control. After a catered lunch and networking session\, the afternoon continues with Preparing for MBD – Best Practices\, Creo automation tools\, and a session led by Bryan Enabnit from TriStar on the pros and cons of pushing data into MRP\, ERP\, and MES systems. \nThe event concludes with an open town hall Q&A\, raffle\, and tastings. Register TodaySpace is limited for this East Cobb PTC/USER meeting. Register now to secure your spot and join us for a full day of technical learning\, peer networking\, and practical insight; plus\, lunch and brewery tastings to wrap up the afternoon. \n       \n    0
URL:https://www.tristar.com/event/east-cobb-ptc-user-meeting-march-25/
LOCATION:Round Trip Brewing Co.\, 4475 Roswell Rd Suite 1600\, Marietta\, 30062\, United States
CATEGORIES:Live Events
ATTACH;FMTTYPE=image/jpeg:https://www.tristar.com/wp-content/uploads/2026/03/PTC-USer-GA-March-26-.jpg
END:VEVENT
BEGIN:VEVENT
DTSTART;TZID=America/New_York:20260326T143000
DTEND;TZID=America/New_York:20260326T210000
DTSTAMP:20260422T155843
CREATED:20260302T161251Z
LAST-MODIFIED:20260303T184057Z
UID:36067-1774535400-1774558800@www.tristar.com
SUMMARY:Florida PTC/USER Spring Event 2026 at MCCST HQ
DESCRIPTION:An Afternoon of AI\, Creo Innovation\, Dinner and CommunityJoin us on Thursday\, March 26 at MCCST Headquarters in Clearwater\, FL for a live engineering event packed with practical insights for teams working in Creo and Windchill. From AI Assist capabilities to modeling best practices and digital thread connectivity\, this session brings together experts from PTC\, MCCST\, TriStar\, and industry leadership for an engaging afternoon and evening. \nYou’ll gain real-world insight\, connect with local peers\, and participate in an open Town Hall discussion. Dinner is included\, and we’ll wrap up the evening with a raffle and networking. Why Attend?Engineering teams are under pressure to move faster while managing growing product complexity. This event focuses on practical improvements you can apply immediately — from AI-enabled workflows to launch standards\, MBD preparation\, and end-to-end data connectivity. \nIf you work in Creo\, Windchill\, PLM\, MBD\, or product lifecycle strategy\, this session will help you streamline processes\, improve collaboration\, and strengthen your digital thread foundation. What You’ll LearnThroughout the afternoon and evening\, you’ll gain insight into: \nAI Assist in Creo and Windchill and how it supports smarter design workflowsLaunch scripts and standards synchronization to improve modeling consistencyCreo best practices that simplify daily engineering workData connectivity from ideation to end of life\, strengthening digital alignmentPreparing for MBD (Model-Based Definition) with actionable implementation guidance \nYou’ll also have the opportunity to engage directly with presenters during a live Town Hall Q&A panel. Agenda OverviewThe afternoon begins with check-in at 2:30 PM\, followed by introductions and an agenda overview from MCCST board members. Sessions include AI Assist in Creo and Windchill with PTC’s Brad Cline\, Launch Scripts and Standards Sync with Joseph Peters\, and Creo Best Practices with Shawn Schreckengost from TriStar. After a catered dinner break\, the evening continues with Data Connectivity from Ideation to End of Life presented by Susanne Lauda\, followed by Preparing for MBD – Best Practices. We’ll close with an interactive Town Hall Q&A panel and a raffle before wrapping up at 9:00 PM. Register TodaySpace is limited for this Clearwater engineering event. Join local peers\, industry experts\, and digital thread leaders for an afternoon of learning\, collaboration\, and practical takeaways. \nRegister now to secure your spot. \n       \n   \n\n 0
URL:https://www.tristar.com/event/clearwater-ptc-creo-windchill-ai-event/
LOCATION:McCormick Stevenson\, 28200 US Hwy 19 N\, suite E\, Clearwater\, FL\, 33761\, United States
CATEGORIES:Live Events
ATTACH;FMTTYPE=image/jpeg:https://www.tristar.com/wp-content/uploads/2026/03/PTC-USer-GA-March-26-1.jpg
END:VEVENT
BEGIN:VEVENT
DTSTART;VALUE=DATE:20260427
DTEND;VALUE=DATE:20260501
DTSTAMP:20260422T155843
CREATED:20260401T182709Z
LAST-MODIFIED:20260401T185829Z
UID:36616-1777248000-1777593599@www.tristar.com
SUMMARY:PTC USER Global Summit 2026 | TriStar Event & Discount
DESCRIPTION:Four Days of Learning\, Innovation\, and Digital Transformation in Las VegasPTC/USER Global Summit 2026 brings together PTC customers\, product experts\, and industry leaders for one of the most anticipated events in the engineering and product development space. Taking place April 27–30\, 2026\, at the Rio Hotel & Casino in Las Vegas\, Nevada\, this year’s theme\, Spotlight on Digital Transformation\, focuses on how organizations are connecting people\, processes\, and technology across the digital thread. \nThroughout the event\, attendees will explore real-world strategies across CAD\, PLM\, ALM\, simulation\, AR\, and service while learning directly from users who are solving complex engineering challenges every day. As a result\, teams walk away with practical ideas they can apply immediately to improve workflows\, collaboration\, and product development performance. Why Attend?Global Summit offers a chance to step outside day-to-day work and see how other organizations approach similar challenges. You will gain exposure to proven strategies\, emerging technologies\, and best practices that help teams move faster and work smarter. \nIn addition\, the event creates space for meaningful conversations with peers\, PTC experts\, and partners like TriStar. Whether your focus is improving Creo modeling\, optimizing Windchill\, strengthening PLM strategy\, or connecting your digital thread\, you will find valuable insights that support your next steps.  Register TodayPlanning to attend Global Summit? Fill out the form below to connect with TriStar and receive access to a discount on event registration. \nThis is a simple way to save on your pass while also starting a conversation around how your team can improve engineering performance\, data flow\, and digital thread strategy. \nWe look forward to seeing you in Las Vegas. Get Your Discount Code \n\n  \n\n\n\n\n\n\n\n\n\n\n\n\n\n\n\n\n \n\n\n\n\n\n\nNumber of Employees*\n1-2021-5051-100101-250251-500501-1\,0001\,001-5\,0005\,001-10\,000More than 10\,000\n\n\n\nSubscribe to our newsletter\n\n\n\n\n\n\n\n\n\n\n\n\n\nΔ ×\n\n\n 0
URL:https://www.tristar.com/event/ptc-user-global-summit-2026-tristar-event-discount/
LOCATION:Rio Hotel & Casino\, 3700 W Flamingo Rd\, Las Vegas\, NV\, 89103\, United States
CATEGORIES:Live Events
ATTACH;FMTTYPE=image/jpeg:https://www.tristar.com/wp-content/uploads/2026/04/iStock-2210332784.jpg
END:VEVENT
BEGIN:VEVENT
DTSTART;TZID=America/Chicago:20260514T080000
DTEND;TZID=America/Chicago:20260514T150000
DTSTAMP:20260422T155843
CREATED:20260414T145731Z
LAST-MODIFIED:20260414T145758Z
UID:36972-1778745600-1778770800@www.tristar.com
SUMMARY:Badgerland PTC User Group Meeting 2026 | Creo & Windchill Event
DESCRIPTION:A Day of Insights\, Innovation\, Free Lunch\, and NetworkingJoin TriStar and the Badgerland PTC/USER community for a full day of learning\, networking\, and technical insight at the Badgerland Annual Conference. This in-person event brings together engineers\, designers\, and product development teams to explore real-world applications of Creo\, Windchill\, and connected engineering strategies. \nTaking place on May 14\, 2026\, at the Richard T. Anderson Education Center in Pewaukee\, Wisconsin\, this conference delivers a packed agenda across multiple breakout rooms. Throughout the day\, attendees will hear from industry experts\, explore sponsor solutions\, and connect with peers facing similar engineering challenges. From modeling best practices to PLM strategies\, the sessions focus on practical ideas you can apply immediately. Why Attend?This event gives engineering teams direct access to experts\, tools\, and strategies that improve how products get designed and managed. Instead of theory\, sessions focus on real workflows\, real challenges\, and real solutions across CAD and PLM environments. \nYou will also gain valuable face-to-face time with sponsors and presenters throughout the day. Whether you want to improve Creo modeling\, streamline Windchill processes\, or better connect your digital thread\, this event creates the space to learn\, ask questions\, and move faster with more clarity. What You’ll LearnExpect a full day of sessions covering Creo\, Windchill\, and broader product development topics. Presentations will explore areas like Model-Based Definition (MBD/MBE)\, Creo updates and enhancements\, and tools that improve productivity and automation inside engineering workflows. \nYou will also see practical examples of how teams manage variability in assemblies\, improve data quality in Windchill\, and simplify everyday design tasks. In addition\, roundtable discussions and open sessions will give administrators and users a chance to collaborate\, share ideas\, and solve challenges together. Agenda OverviewThe day begins at 8:15 AM with breakfast and sponsor networking\, followed by a full schedule of breakout sessions across three rooms. Morning sessions include topics like MBD/MBE from EAC\, Creo updates from PTC\, and Windchill tools and automation from Felco\, alongside ongoing CAD and Windchill roundtable discussions. \nAfter a full Italian pasta buffet lunch\, the afternoon continues with sessions such as TriStar’s “Creo Best Practices” focused on Flexible Components\, along with additional presentations on improving Creo productivity and engineering workflows. The event concludes with sponsor engagement and a door prize drawing at 3:15 PM\, including a grand prize giveaway. Attendees must be present to win. Register TodaySpace is limited for this annual Badgerland event\, and attendance fills up quickly each year. Register now to secure your spot and join a full day of learning\, networking\, and hands-on insight with the PTC/USER community. Register Here! 0
URL:https://www.tristar.com/event/badgerland-ptc-user-group-meeting-2026/
LOCATION:Richard T Anderson Education Center\, C Building\, 800 Main St.\, Pewaukee\, WI\, 53702\, United States
CATEGORIES:Live Events
ATTACH;FMTTYPE=image/jpeg:https://www.tristar.com/wp-content/uploads/2026/04/PTC-USer-wisco-.jpg
END:VEVENT
BEGIN:VEVENT
DTSTART;TZID=America/Los_Angeles:20260518T160000
DTEND;TZID=America/Los_Angeles:20260518T190000
DTSTAMP:20260422T155843
CREATED:20260421T171250Z
LAST-MODIFIED:20260421T171250Z
UID:37182-1779120000-1779130800@www.tristar.com
SUMMARY:Portland Topgolf Customer Appreciation Event
DESCRIPTION:Connect With Your Local Engineering CommunityJoin TriStar and the Portland PTC/User community for an evening of networking\, appreciation\, and Topgolf fun. This event brings together Portland-area professionals for a relaxed experience with food\, drinks\, giveaways\, and time to connect with peers and local experts. \nWe will host the event at Topgolf Hillsboro\, located at 5505 NE Huffman St in Hillsboro\, Oregon\, on Monday\, May 18\, 2026. The event runs from 4:00 PM to 7:00 PM\, giving you a full evening to network\, unwind\, and enjoy the experience. \nWhether you want to reconnect with familiar faces or meet new ones\, this is a great opportunity to strengthen relationships across the local engineering community. Why Attend?This event creates space for meaningful connections in a casual setting. You can network with Portland-area customers\, connect with local experts\, and enjoy an evening focused on appreciation and conversation. \nWith Topgolf\, food\, drinks\, and giveaways\, the event keeps things engaging while giving you time to step away from the day-to-day.  What You’ll LearnWhile the focus is on appreciation and networking\, you will still gain value through conversation. Hear how others approach engineering and product development challenges\, exchange ideas\, and build connections that extend beyond the event. \nThese informal discussions often lead to practical insights and stronger collaboration across teams. \nGiveaway HighlightsAs a thank you to our customers\, we will be giving away several items throughout the evening. Attendees will have the chance to win Benchmade Bugout knives\, a golf giveaway bag with PXG balls\, a divot tool\, and tees\, a speaker bundle with a swag bag\, and a mini desk whiteboard with additional swag. \nIt is a simple way for us to show our appreciation for the relationships that continue to drive the Portland community forward. \nRegister TodayJoin us for an evening of appreciation\, networking\, and Topgolf fun with the Portland PTC/User community. Save your spot and be part of a memorable event with great people and great conversation. \n\n  \n\n\n\n\n\n\n\n\n\n\n\n\n\n\n\n\n \n\n\n\n\n\n\nNumber of Employees\n1-2021-5051-100101-250251-500501-1\,0001\,001-5\,0005\,001-10\,000More than 10\,000\n\n\n\nSubscribe to our newsletter\n\n\n\n\n\n\n\n\n\n\n\n\nΔ ×\n\n\n 0
URL:https://www.tristar.com/event/portland-topgolf-customer-appreciation-event/
LOCATION:Top Golf Hillsboro\, 5505 NE Huffman St\, Hillsboro\, OR\, 97124\, United States
CATEGORIES:Live Events,TriStar Events/Webinars
ATTACH;FMTTYPE=image/jpeg:https://www.tristar.com/wp-content/uploads/2026/04/PTC-USer-Portland-.jpg
END:VEVENT
BEGIN:VEVENT
DTSTART;TZID=America/Denver:20260526T160000
DTEND;TZID=America/Denver:20260526T190000
DTSTAMP:20260422T155843
CREATED:20260421T181932Z
LAST-MODIFIED:20260421T182313Z
UID:37195-1779811200-1779822000@www.tristar.com
SUMMARY:Denver Topgolf Customer Appreciation Event and Mini User Group
DESCRIPTION:An Afternoon of Insights\, Innovation\, Free Dinner\, Top Golf\, and NetworkingJoin TriStar in the Denver area on Tuesday\, May 26\, 2026\, from 4:00 to 7:00 PM at Topgolf Thornton\, located at 16011 Grant St\, Thornton\, CO 80023\, for a fun afternoon that combines practical learning with customer appreciation. The event will feature an hour-long Modeling for Flexibility workshop presented by TriStar’s own Shawn Schreckengost\, followed by food\, drinks\, giveaways\, and Topgolf with fellow customers and local professionals. Why Attend?This event gives Denver-area customers a chance to connect with the TriStar team\, learn something useful in Creo\, and enjoy a relaxed evening with peers in the local engineering community. You will get expert-led insight\, valuable networking\, and a chance to unwind with food\, drinks\, and Topgolf. What You’ll LearnShawn Schreckengost’s Modeling for Flexibility workshop will highlight practical Creo techniques that help teams build smarter\, more adaptable models. Attendees will walk away with ideas they can apply to improve design efficiency and support more flexible product development workflows. Giveaway HighlightsAs a thank-you to our Denver-area customers\, we will also be giving away several fun prizes during the event\, including Benchmade Bugout knives\, a golf giveaway bag with PXG balls\, divot tool\, and tees\, a speaker bundle with swag\, and a mini desk whiteboard with a swag bag. It is one more way for us to show our appreciation for the customers and partners who continue to support TriStar. Register TodayCome join us for a great mix of learning\, networking\, and appreciation at Topgolf Thornton. We look forward to spending the evening with you and sharing a few useful Creo insights along the way. \n       \n    0
URL:https://www.tristar.com/event/denver-topgolf-customer-appreciation-event-and-mini-user-group/
LOCATION:TopGolf Thornton\, 16011 Grant St\, Thornton\, CO\, 80023\, United States
CATEGORIES:Live Events,TriStar Events/Webinars
ATTACH;FMTTYPE=image/jpeg:https://www.tristar.com/wp-content/uploads/2026/04/PTC-USer-Denver-1.jpg
END:VEVENT
END:VCALENDAR