BEGIN:VCALENDAR
VERSION:2.0
PRODID:-//TriStar Digital Thread Solutions - ECPv6.15.20//NONSGML v1.0//EN
CALSCALE:GREGORIAN
METHOD:PUBLISH
X-WR-CALNAME:TriStar Digital Thread Solutions
X-ORIGINAL-URL:https://www.tristar.com
X-WR-CALDESC:Events for TriStar Digital Thread Solutions
REFRESH-INTERVAL;VALUE=DURATION:PT1H
X-Robots-Tag:noindex
X-PUBLISHED-TTL:PT1H
BEGIN:VTIMEZONE
TZID:America/New_York
BEGIN:DAYLIGHT
TZOFFSETFROM:-0500
TZOFFSETTO:-0400
TZNAME:EDT
DTSTART:20240310T070000
END:DAYLIGHT
BEGIN:STANDARD
TZOFFSETFROM:-0400
TZOFFSETTO:-0500
TZNAME:EST
DTSTART:20241103T060000
END:STANDARD
BEGIN:DAYLIGHT
TZOFFSETFROM:-0500
TZOFFSETTO:-0400
TZNAME:EDT
DTSTART:20250309T070000
END:DAYLIGHT
BEGIN:STANDARD
TZOFFSETFROM:-0400
TZOFFSETTO:-0500
TZNAME:EST
DTSTART:20251102T060000
END:STANDARD
BEGIN:DAYLIGHT
TZOFFSETFROM:-0500
TZOFFSETTO:-0400
TZNAME:EDT
DTSTART:20260308T070000
END:DAYLIGHT
BEGIN:STANDARD
TZOFFSETFROM:-0400
TZOFFSETTO:-0500
TZNAME:EST
DTSTART:20261101T060000
END:STANDARD
END:VTIMEZONE
BEGIN:VEVENT
DTSTART;TZID=America/New_York:20250219T110000
DTEND;TZID=America/New_York:20250219T123000
DTSTAMP:20260421T193124
CREATED:20250203T162413Z
LAST-MODIFIED:20250203T163518Z
UID:32612-1739962800-1739968200@www.tristar.com
SUMMARY:Webinar: Advanced Assembly in Creo
DESCRIPTION:Register NowAdvanced Assembly WebinarCreo’s Advanced Assembly Extension (AAX) streamlines Top-Down Design\, making it easier to develop complex products with multiple interdependent components. This methodology provides a structured approach to designing intricate systems by breaking them into manageable subassemblies\, ensuring clarity and control throughout the process. \nWith Skeletons or Master Models\, engineers can drive parts and subassemblies from a central location\, improving organization and flexibility. Using multiple Skeletons or Master Models further enhances compartmentalization\, simplifying design changes and boosting efficiency. \nIn this session\, we’ll dive into Creo AAX’s powerful tools and capabilities that enable a seamless Top-Down Design Environment\, helping teams optimize workflows and drive innovation. \n(Replay available after the event concludes) \nJoin us for this webinar on February 19th and you’ll learn: \n\nStreamlined Top-Down Design \n\nSkeletons & Master Models \n\nOptimized Change Management \n\nEnhanced Productivity \nPresented By:\n \nShawn Shreckengost\nBusiness Development Manager\, TriStar \nRegister Now \n\n  \n\n\n\n\n\n\n\n\n\n\n\n\n\n\n\n\n \n\n\n\n\n\n\nNumber of Employees\n1-2021-5051-100101-250251-500501-1\,0001\,001-5\,0005\,001-10\,000More than 10\,000\n\n\n\nSubscribe to our newsletter\n\n\n\n\n\n\n\n\n\n\n\n\nΔ ×\n\n\n 0
URL:https://www.tristar.com/event/webinar-advanced-assembly-in-creo__trashed/
LOCATION:CO
CATEGORIES:TriStar Events/Webinars,Webinar
ATTACH;FMTTYPE=image/png:https://www.tristar.com/wp-content/uploads/2025/01/Tristar-Webinar-Website.png
END:VEVENT
END:VCALENDAR