BEGIN:VCALENDAR
VERSION:2.0
PRODID:-//TriStar Digital Thread Solutions - ECPv6.15.20//NONSGML v1.0//EN
CALSCALE:GREGORIAN
METHOD:PUBLISH
X-ORIGINAL-URL:https://www.tristar.com
X-WR-CALDESC:Events for TriStar Digital Thread Solutions
REFRESH-INTERVAL;VALUE=DURATION:PT1H
X-Robots-Tag:noindex
X-PUBLISHED-TTL:PT1H
BEGIN:VTIMEZONE
TZID:America/New_York
BEGIN:DAYLIGHT
TZOFFSETFROM:-0500
TZOFFSETTO:-0400
TZNAME:EDT
DTSTART:20240310T070000
END:DAYLIGHT
BEGIN:STANDARD
TZOFFSETFROM:-0400
TZOFFSETTO:-0500
TZNAME:EST
DTSTART:20241103T060000
END:STANDARD
BEGIN:DAYLIGHT
TZOFFSETFROM:-0500
TZOFFSETTO:-0400
TZNAME:EDT
DTSTART:20250309T070000
END:DAYLIGHT
BEGIN:STANDARD
TZOFFSETFROM:-0400
TZOFFSETTO:-0500
TZNAME:EST
DTSTART:20251102T060000
END:STANDARD
BEGIN:DAYLIGHT
TZOFFSETFROM:-0500
TZOFFSETTO:-0400
TZNAME:EDT
DTSTART:20260308T070000
END:DAYLIGHT
BEGIN:STANDARD
TZOFFSETFROM:-0400
TZOFFSETTO:-0500
TZNAME:EST
DTSTART:20261101T060000
END:STANDARD
END:VTIMEZONE
BEGIN:VEVENT
DTSTART;TZID=America/New_York:20250603T110000
DTEND;TZID=America/New_York:20250603T123000
DTSTAMP:20260421T131013
CREATED:20250519T183105Z
LAST-MODIFIED:20250519T183256Z
UID:33045-1748948400-1748953800@www.tristar.com
SUMMARY:Unlocking Innovation with Creo Generative Design and Topology Optimization
DESCRIPTION:Unlocking Innovation with Creo Generative Design and Topology OptimizationRegister NowDiscover how to accelerate product development with Creo’s Generative Design and Topology Optimization tools. In this webinar\, you’ll learn how to use AI-driven capabilities in Creo to define constraints\, simulate real-world performance\, and automatically generate optimized\, manufacturing-ready designs. Explore how engineers are reducing weight\, minimizing material usage\, and achieving better performance—all in less time. \nIn this webinar\, you’ll learn industry-proven best practices and discover how to leverage Creo effectively to: \n\nLearn to define design constraints and performance goals using Creo’s Generative Design and Topology Optimization tools \n\nExplore AI-driven simulation features that generate optimized\, manufacturable design alternatives faster than traditional methods \n\nDiscover ways to reduce weight\, minimize material usage\, and align designs with your preferred manufacturing processes \nDiscover how the correct use of Windchill can help your organization reduce risks and boost efficiency by ensuring that each component of your documentation serves its intended purpose. Join us to transform the way you manage design documentation and physical parts for a smoother\, more effective workflow. \nSpeaker Thiagu PalaniappanSenior Application Engineer\, TriStar Register Below \n\n  \n\n\n\n\n\n\n\n\n\n\n\n\n\n\n\n\n \n\n\n\n\n\n\nNumber of Employees\n1-2021-5051-100101-250251-500501-1\,0001\,001-5\,0005\,001-10\,000More than 10\,000\n\n\n\nSubscribe to our newsletter\n\n\n\n\n\n\n\n\n\n\n\n\nΔ ×\n\n\n 0
URL:https://www.tristar.com/event/unlocking-innovation-with-creo-generative-design-and-topology-optimization__trashed/
LOCATION:CO
CATEGORIES:TriStar Events/Webinars
ATTACH;FMTTYPE=image/png:https://www.tristar.com/wp-content/uploads/2025/01/Tristar-Webinar-Website.png
END:VEVENT
BEGIN:VEVENT
DTSTART;TZID=America/New_York:20250626T110000
DTEND;TZID=America/New_York:20250626T123000
DTSTAMP:20260421T131013
CREATED:20250609T174307Z
LAST-MODIFIED:20250609T174307Z
UID:33155-1750935600-1750941000@www.tristar.com
SUMMARY:[Webinar] Search Like A Pro: From Simple Queries to Smart Strategies in Windchill
DESCRIPTION:Discover How to Find What You Need-FastRegister NowStruggling to locate critical parts\, documents\, or data in Windchill? You’re not alone—and this webinar is here to help. Join TriStar for an in-depth session designed to elevate your Windchill search skills from basic to advanced. \nIn “Search Like a Pro: From Simple Queries to Smart Strategies in Windchill\,” we’ll break down the essential elements behind a great search experience. Learn not just how to search\, but how to search smart—with strategies that improve accuracy\, speed\, and user confidence. \nWhether you’re a day-to-day user or helping support system adoption across teams\, this session will help you: \n\nGet the most out of simple and advanced search tools \n\nUnderstand the building blocks that make searches more reliable \n\nSpeed up workflows and reduce frustration \nRegister now and empower your team to spend less time searching—and more time creating. \nSpeaker Bryan EnabnitVP of Customer Success\, TriStar Register Now \n\n  \n\n\n\n\n\n\n\n\n\n\n\n\n\n\n\n\n \n\n\n\n\n\n\nNumber of Employees\n1-2021-5051-100101-250251-500501-1\,0001\,001-5\,0005\,001-10\,000More than 10\,000\n\n\n\nSubscribe to our newsletter\n\n\n\n\n\n\n\n\n\n\n\n\nΔ ×\n\n\n 0
URL:https://www.tristar.com/event/webinar-search-like-a-pro-from-simple-queries-to-smart-strategies-in-windchill__trashed/
LOCATION:CO
CATEGORIES:TriStar Events/Webinars
ATTACH;FMTTYPE=image/png:https://www.tristar.com/wp-content/uploads/2025/01/Tristar-Webinar-Website.png
END:VEVENT
END:VCALENDAR