BEGIN:VCALENDAR
VERSION:2.0
PRODID:-//TriStar Digital Thread Solutions - ECPv6.15.20//NONSGML v1.0//EN
CALSCALE:GREGORIAN
METHOD:PUBLISH
X-ORIGINAL-URL:https://www.tristar.com
X-WR-CALDESC:Events for TriStar Digital Thread Solutions
REFRESH-INTERVAL;VALUE=DURATION:PT1H
X-Robots-Tag:noindex
X-PUBLISHED-TTL:PT1H
BEGIN:VTIMEZONE
TZID:America/New_York
BEGIN:DAYLIGHT
TZOFFSETFROM:-0500
TZOFFSETTO:-0400
TZNAME:EDT
DTSTART:20240310T070000
END:DAYLIGHT
BEGIN:STANDARD
TZOFFSETFROM:-0400
TZOFFSETTO:-0500
TZNAME:EST
DTSTART:20241103T060000
END:STANDARD
BEGIN:DAYLIGHT
TZOFFSETFROM:-0500
TZOFFSETTO:-0400
TZNAME:EDT
DTSTART:20250309T070000
END:DAYLIGHT
BEGIN:STANDARD
TZOFFSETFROM:-0400
TZOFFSETTO:-0500
TZNAME:EST
DTSTART:20251102T060000
END:STANDARD
BEGIN:DAYLIGHT
TZOFFSETFROM:-0500
TZOFFSETTO:-0400
TZNAME:EDT
DTSTART:20260308T070000
END:DAYLIGHT
BEGIN:STANDARD
TZOFFSETFROM:-0400
TZOFFSETTO:-0500
TZNAME:EST
DTSTART:20261101T060000
END:STANDARD
END:VTIMEZONE
BEGIN:VEVENT
DTSTART;TZID=America/New_York:20250709T130000
DTEND;TZID=America/New_York:20250709T140000
DTSTAMP:20260421T131022
CREATED:20250521T160853Z
LAST-MODIFIED:20250623T135215Z
UID:33091-1752066000-1752069600@www.tristar.com
SUMMARY:PTC Windchill Packaging Updates and Enhancements
DESCRIPTION:Explore What’s New in Windchill: Packaging\, Functionality & What It Means for YouBig changes are coming to Windchill—and we want to make sure you’re ahead of the curve. Join us on July 9th at 1:00 PM EST for an exclusive webinar designed specifically for TriStar’s Windchill customer base. We’ll walk through the updated packaging structure and highlight the powerful new functionality included in each tier. \nThis isn’t just another product update—it’s your chance to gain a clear\, practical understanding of how these changes will impact your team\, your workflows\, and your long-term PLM strategy. Whether you’re an everyday user or a decision-maker shaping the future of your engineering operations\, you’ll walk away with insights you can act on immediately. \nExpect real talk\, live demos\, and expert guidance from people who work in Windchill every day.It’s informative. It’s interactive. And it’s designed to help your business get the most from its PLM investment. \nRegister Now \n\n  \n\n\n\n\n\n\n\n\n\n\n\n\n\n\n\n\n \n\n\n\n\n\n\nNumber of Employees\n1-2021-5051-100101-250251-500501-1\,0001\,001-5\,0005\,001-10\,000More than 10\,000\n\n\n\nSubscribe to our newsletter\n\n\n\n\n\n\n\n\n\n\n\n\nΔ ×\n\n\n 0
URL:https://www.tristar.com/event/ptc-windchill-packaging-updates-and-enhancements__trashed/
LOCATION:CO
CATEGORIES:TriStar Events/Webinars
ATTACH;FMTTYPE=image/png:https://www.tristar.com/wp-content/uploads/2025/01/Tristar-Webinar-Website.png
END:VEVENT
END:VCALENDAR