BEGIN:VCALENDAR
VERSION:2.0
PRODID:-//TriStar Digital Thread Solutions - ECPv6.15.20//NONSGML v1.0//EN
CALSCALE:GREGORIAN
METHOD:PUBLISH
X-WR-CALNAME:TriStar Digital Thread Solutions
X-ORIGINAL-URL:https://www.tristar.com
X-WR-CALDESC:Events for TriStar Digital Thread Solutions
REFRESH-INTERVAL;VALUE=DURATION:PT1H
X-Robots-Tag:noindex
X-PUBLISHED-TTL:PT1H
BEGIN:VTIMEZONE
TZID:America/New_York
BEGIN:DAYLIGHT
TZOFFSETFROM:-0500
TZOFFSETTO:-0400
TZNAME:EDT
DTSTART:20240310T070000
END:DAYLIGHT
BEGIN:STANDARD
TZOFFSETFROM:-0400
TZOFFSETTO:-0500
TZNAME:EST
DTSTART:20241103T060000
END:STANDARD
BEGIN:DAYLIGHT
TZOFFSETFROM:-0500
TZOFFSETTO:-0400
TZNAME:EDT
DTSTART:20250309T070000
END:DAYLIGHT
BEGIN:STANDARD
TZOFFSETFROM:-0400
TZOFFSETTO:-0500
TZNAME:EST
DTSTART:20251102T060000
END:STANDARD
BEGIN:DAYLIGHT
TZOFFSETFROM:-0500
TZOFFSETTO:-0400
TZNAME:EDT
DTSTART:20260308T070000
END:DAYLIGHT
BEGIN:STANDARD
TZOFFSETFROM:-0400
TZOFFSETTO:-0500
TZNAME:EST
DTSTART:20261101T060000
END:STANDARD
END:VTIMEZONE
BEGIN:VEVENT
DTSTART;TZID=America/New_York:20251001T090000
DTEND;TZID=America/New_York:20251001T160000
DTSTAMP:20260421T052531
CREATED:20250905T162557Z
LAST-MODIFIED:20250917T154835Z
UID:33572-1759309200-1759334400@www.tristar.com
SUMMARY:PTC/User Georgia Fall Event
DESCRIPTION:A Day of Insights\, Innovation\, Free Lunch\, and NetworkingJoin the Georgia PTC/User Group and industry experts for an interactive afternoon of technical sessions\, live demos\, and community networking. This event brings together Creo and Windchill users for hands-on learning\, practical strategies\, and a chance to connect with peers at the \nFrom advanced modeling and AI for product development to the transition toward part-centric and MBD practices\, this program is built to help engineering and product lifecycle professionals sharpen their skills and discover new ways to accelerate development. \nA lunch will be provided to all attendees! Why Attend?This event blends expert-led presentations with community learning and networking. You’ll see live demonstrations of the latest Creo and Windchill capabilities\, explore part-centric and MBD workflows\, and learn how AI is being applied in engineering. With opportunities for Q&A\, dinner\, and informal networking\, it’s the perfect balance of education and community connection. Agenda OverviewCREO – “You Think You Know Sheetmetal?”Unlock advanced and time-saving features in Creo Sheetmetal to improve accuracy and efficiency. \nMBD & PLMMoving Drawings Totally to Part Centric & MBD\, Including Assembly Drawings. \nAI for Creo and WindchillSee how artificial intelligence is enhancing design and lifecycle management workflows. \nETRAGE Drawing Notes Search for CreoAugment traditional part number searches by using attributes and key words within drawing notes for quicker retrieval. \nWindchill Navigate DemoLive demo with the TriStar Review Change App. \nCreo Advanced Modeling TechniquesLearn flexible modeling techniques to build smarter designs and adapt faster. \nLunch BreakEnjoy a lunch break to connect with peers and enjoy a provided meal. \nCREO For Solidworks Users and Solidworks Data Management in Windchill \nQ&A\, Wrap-Up\, and Door PrizesEnd the day with open discussion\, community connection\, and giveaways. Register TodaySpace is limited for this interactive Georgia PTC/USER event. Sign up now to reserve your spot and join us for an afternoon of learning\, networking\, and community at TopGolf! \n       \n    0
URL:https://www.tristar.com/event/ptc-user-georgia-live-event/
LOCATION:TopGolf Atlanta\, 10900 Westside Parkway\, Alpharetta\, GA\, 30009\, United States
CATEGORIES:Live Events,TriStar Events/Webinars
ATTACH;FMTTYPE=image/png:https://www.tristar.com/wp-content/uploads/2025/09/PTC-GA-October-1.png
END:VEVENT
END:VCALENDAR