BEGIN:VCALENDAR
VERSION:2.0
PRODID:-//TriStar Digital Thread Solutions - ECPv6.15.20//NONSGML v1.0//EN
CALSCALE:GREGORIAN
METHOD:PUBLISH
X-WR-CALNAME:TriStar Digital Thread Solutions
X-ORIGINAL-URL:https://www.tristar.com
X-WR-CALDESC:Events for TriStar Digital Thread Solutions
REFRESH-INTERVAL;VALUE=DURATION:PT1H
X-Robots-Tag:noindex
X-PUBLISHED-TTL:PT1H
BEGIN:VTIMEZONE
TZID:America/Los_Angeles
BEGIN:DAYLIGHT
TZOFFSETFROM:-0800
TZOFFSETTO:-0700
TZNAME:PDT
DTSTART:20250309T100000
END:DAYLIGHT
BEGIN:STANDARD
TZOFFSETFROM:-0700
TZOFFSETTO:-0800
TZNAME:PST
DTSTART:20251102T090000
END:STANDARD
BEGIN:DAYLIGHT
TZOFFSETFROM:-0800
TZOFFSETTO:-0700
TZNAME:PDT
DTSTART:20260308T100000
END:DAYLIGHT
BEGIN:STANDARD
TZOFFSETFROM:-0700
TZOFFSETTO:-0800
TZNAME:PST
DTSTART:20261101T090000
END:STANDARD
BEGIN:DAYLIGHT
TZOFFSETFROM:-0800
TZOFFSETTO:-0700
TZNAME:PDT
DTSTART:20270314T100000
END:DAYLIGHT
BEGIN:STANDARD
TZOFFSETFROM:-0700
TZOFFSETTO:-0800
TZNAME:PST
DTSTART:20271107T090000
END:STANDARD
END:VTIMEZONE
BEGIN:VTIMEZONE
TZID:America/Denver
BEGIN:DAYLIGHT
TZOFFSETFROM:-0700
TZOFFSETTO:-0600
TZNAME:MDT
DTSTART:20250309T090000
END:DAYLIGHT
BEGIN:STANDARD
TZOFFSETFROM:-0600
TZOFFSETTO:-0700
TZNAME:MST
DTSTART:20251102T080000
END:STANDARD
BEGIN:DAYLIGHT
TZOFFSETFROM:-0700
TZOFFSETTO:-0600
TZNAME:MDT
DTSTART:20260308T090000
END:DAYLIGHT
BEGIN:STANDARD
TZOFFSETFROM:-0600
TZOFFSETTO:-0700
TZNAME:MST
DTSTART:20261101T080000
END:STANDARD
BEGIN:DAYLIGHT
TZOFFSETFROM:-0700
TZOFFSETTO:-0600
TZNAME:MDT
DTSTART:20270314T090000
END:DAYLIGHT
BEGIN:STANDARD
TZOFFSETFROM:-0600
TZOFFSETTO:-0700
TZNAME:MST
DTSTART:20271107T080000
END:STANDARD
END:VTIMEZONE
BEGIN:VEVENT
DTSTART;TZID=America/Los_Angeles:20260518T160000
DTEND;TZID=America/Los_Angeles:20260518T190000
DTSTAMP:20260421T190044
CREATED:20260421T171250Z
LAST-MODIFIED:20260421T171250Z
UID:37182-1779120000-1779130800@www.tristar.com
SUMMARY:Portland Topgolf Customer Appreciation Event
DESCRIPTION:Connect With Your Local Engineering CommunityJoin TriStar and the Portland PTC/User community for an evening of networking\, appreciation\, and Topgolf fun. This event brings together Portland-area professionals for a relaxed experience with food\, drinks\, giveaways\, and time to connect with peers and local experts. \nWe will host the event at Topgolf Hillsboro\, located at 5505 NE Huffman St in Hillsboro\, Oregon\, on Monday\, May 18\, 2026. The event runs from 4:00 PM to 7:00 PM\, giving you a full evening to network\, unwind\, and enjoy the experience. \nWhether you want to reconnect with familiar faces or meet new ones\, this is a great opportunity to strengthen relationships across the local engineering community. Why Attend?This event creates space for meaningful connections in a casual setting. You can network with Portland-area customers\, connect with local experts\, and enjoy an evening focused on appreciation and conversation. \nWith Topgolf\, food\, drinks\, and giveaways\, the event keeps things engaging while giving you time to step away from the day-to-day.  What You’ll LearnWhile the focus is on appreciation and networking\, you will still gain value through conversation. Hear how others approach engineering and product development challenges\, exchange ideas\, and build connections that extend beyond the event. \nThese informal discussions often lead to practical insights and stronger collaboration across teams. \nGiveaway HighlightsAs a thank you to our customers\, we will be giving away several items throughout the evening. Attendees will have the chance to win Benchmade Bugout knives\, a golf giveaway bag with PXG balls\, a divot tool\, and tees\, a speaker bundle with a swag bag\, and a mini desk whiteboard with additional swag. \nIt is a simple way for us to show our appreciation for the relationships that continue to drive the Portland community forward. \nRegister TodayJoin us for an evening of appreciation\, networking\, and Topgolf fun with the Portland PTC/User community. Save your spot and be part of a memorable event with great people and great conversation. \n\n  \n\n\n\n\n\n\n\n\n\n\n\n\n\n\n\n\n \n\n\n\n\n\n\nNumber of Employees\n1-2021-5051-100101-250251-500501-1\,0001\,001-5\,0005\,001-10\,000More than 10\,000\n\n\n\nSubscribe to our newsletter\n\n\n\n\n\n\n\n\n\n\n\n\nΔ ×\n\n\n 0
URL:https://www.tristar.com/event/portland-topgolf-customer-appreciation-event/
LOCATION:Top Golf Hillsboro\, 5505 NE Huffman St\, Hillsboro\, OR\, 97124\, United States
CATEGORIES:Live Events,TriStar Events/Webinars
ATTACH;FMTTYPE=image/jpeg:https://www.tristar.com/wp-content/uploads/2026/04/PTC-USer-Portland-.jpg
END:VEVENT
BEGIN:VEVENT
DTSTART;TZID=America/Denver:20260526T160000
DTEND;TZID=America/Denver:20260526T190000
DTSTAMP:20260421T190044
CREATED:20260421T181932Z
LAST-MODIFIED:20260421T182313Z
UID:37195-1779811200-1779822000@www.tristar.com
SUMMARY:Denver Topgolf Customer Appreciation Event and Mini User Group
DESCRIPTION:An Afternoon of Insights\, Innovation\, Free Dinner\, Top Golf\, and NetworkingJoin TriStar in the Denver area on Tuesday\, May 26\, 2026\, from 4:00 to 7:00 PM at Topgolf Thornton\, located at 16011 Grant St\, Thornton\, CO 80023\, for a fun afternoon that combines practical learning with customer appreciation. The event will feature an hour-long Modeling for Flexibility workshop presented by TriStar’s own Shawn Schreckengost\, followed by food\, drinks\, giveaways\, and Topgolf with fellow customers and local professionals. Why Attend?This event gives Denver-area customers a chance to connect with the TriStar team\, learn something useful in Creo\, and enjoy a relaxed evening with peers in the local engineering community. You will get expert-led insight\, valuable networking\, and a chance to unwind with food\, drinks\, and Topgolf. What You’ll LearnShawn Schreckengost’s Modeling for Flexibility workshop will highlight practical Creo techniques that help teams build smarter\, more adaptable models. Attendees will walk away with ideas they can apply to improve design efficiency and support more flexible product development workflows. Giveaway HighlightsAs a thank-you to our Denver-area customers\, we will also be giving away several fun prizes during the event\, including Benchmade Bugout knives\, a golf giveaway bag with PXG balls\, divot tool\, and tees\, a speaker bundle with swag\, and a mini desk whiteboard with a swag bag. It is one more way for us to show our appreciation for the customers and partners who continue to support TriStar. Register TodayCome join us for a great mix of learning\, networking\, and appreciation at Topgolf Thornton. We look forward to spending the evening with you and sharing a few useful Creo insights along the way. \n       \n    0
URL:https://www.tristar.com/event/denver-topgolf-customer-appreciation-event-and-mini-user-group/
LOCATION:TopGolf Thornton\, 16011 Grant St\, Thornton\, CO\, 80023\, United States
CATEGORIES:Live Events,TriStar Events/Webinars
ATTACH;FMTTYPE=image/jpeg:https://www.tristar.com/wp-content/uploads/2026/04/PTC-USer-Denver-1.jpg
END:VEVENT
END:VCALENDAR