BEGIN:VCALENDAR
VERSION:2.0
PRODID:-//TriStar Digital Thread Solutions - ECPv6.15.20//NONSGML v1.0//EN
CALSCALE:GREGORIAN
METHOD:PUBLISH
X-ORIGINAL-URL:https://www.tristar.com
X-WR-CALDESC:Events for TriStar Digital Thread Solutions
REFRESH-INTERVAL;VALUE=DURATION:PT1H
X-Robots-Tag:noindex
X-PUBLISHED-TTL:PT1H
BEGIN:VTIMEZONE
TZID:America/Chicago
BEGIN:DAYLIGHT
TZOFFSETFROM:-0600
TZOFFSETTO:-0500
TZNAME:CDT
DTSTART:20240310T080000
END:DAYLIGHT
BEGIN:STANDARD
TZOFFSETFROM:-0500
TZOFFSETTO:-0600
TZNAME:CST
DTSTART:20241103T070000
END:STANDARD
BEGIN:DAYLIGHT
TZOFFSETFROM:-0600
TZOFFSETTO:-0500
TZNAME:CDT
DTSTART:20250309T080000
END:DAYLIGHT
BEGIN:STANDARD
TZOFFSETFROM:-0500
TZOFFSETTO:-0600
TZNAME:CST
DTSTART:20251102T070000
END:STANDARD
BEGIN:DAYLIGHT
TZOFFSETFROM:-0600
TZOFFSETTO:-0500
TZNAME:CDT
DTSTART:20260308T080000
END:DAYLIGHT
BEGIN:STANDARD
TZOFFSETFROM:-0500
TZOFFSETTO:-0600
TZNAME:CST
DTSTART:20261101T070000
END:STANDARD
END:VTIMEZONE
BEGIN:VTIMEZONE
TZID:America/New_York
BEGIN:DAYLIGHT
TZOFFSETFROM:-0500
TZOFFSETTO:-0400
TZNAME:EDT
DTSTART:20240310T070000
END:DAYLIGHT
BEGIN:STANDARD
TZOFFSETFROM:-0400
TZOFFSETTO:-0500
TZNAME:EST
DTSTART:20241103T060000
END:STANDARD
BEGIN:DAYLIGHT
TZOFFSETFROM:-0500
TZOFFSETTO:-0400
TZNAME:EDT
DTSTART:20250309T070000
END:DAYLIGHT
BEGIN:STANDARD
TZOFFSETFROM:-0400
TZOFFSETTO:-0500
TZNAME:EST
DTSTART:20251102T060000
END:STANDARD
BEGIN:DAYLIGHT
TZOFFSETFROM:-0500
TZOFFSETTO:-0400
TZNAME:EDT
DTSTART:20260308T070000
END:DAYLIGHT
BEGIN:STANDARD
TZOFFSETFROM:-0400
TZOFFSETTO:-0500
TZNAME:EST
DTSTART:20261101T060000
END:STANDARD
END:VTIMEZONE
BEGIN:VEVENT
DTSTART;TZID=America/Chicago:20251002T150000
DTEND;TZID=America/Chicago:20251002T213000
DTSTAMP:20260421T083251
CREATED:20250812T135021Z
LAST-MODIFIED:20250917T160841Z
UID:33472-1759417200-1759440600@www.tristar.com
SUMMARY:PTC/User Huntsville\, Alabama
DESCRIPTION:Register NowJoin the Alabama PTC/User Group for an afternoon of expert-led sessions\, hands-on insights\, free dinner\, and networking — plus great door prizes!Join us in Huntsville\, Alabama for an engaging PTC/User Huntsville community event designed for engineers\, designers\, and product lifecycle professionals. Hosted by i3\, this gathering brings together local and regional experts to share insights\, explore best practices\, and demonstrate the latest capabilities in Creo and Windchill. Expect hands-on tips\, technical discussions\, and valuable networking opportunities — all in one afternoon. \nWhether you’re looking to expand your technical expertise\, explore emerging innovations\, or connect with other PTC/User members\, this event will provide actionable knowledge you can put to work immediately. We’ll end with a Q&A session and door prizes\, so plan to stay until the wrap-up! \nDinner will be provided to all attendees! Join us on October 2nd to discuss all things CAD & PLM! \nCheck out the agenda below: \nCREO – “You think you know sheetmetal?” \nUnlock advanced and time-saving features in Creo Sheetmetal to improve accuracy and efficiency. \nMBD & PLMMoving Drawings Totally to Part Centric & MBD\, Including Assembly Drawings \nAI for Creo and WindchillLearn how artificial intelligence is enhancing design and lifecycle management workflows. \nWindchill Navigate DemoDemo with the TriStar Review Change App \nETRAGE Drawing Notes Search for CreoAugment traditional part number searches by using attributes and keywords within drawing notes for quicker retrieval. \nCreating Animations in CreoBring designs to life with high-quality animations for training\, presentations\, and marketing. \nQ&A\, Wrap-Up\, and Door Prizes \nWhy Attend?\nThe PTC/User Huntsville event is your chance to gain practical Creo and Windchill skills\, learn new methods from industry experts\, and connect with fellow professionals in the region. You’ll discover innovative tools\, explore proven strategies for improving productivity\, and leave with insights you can apply immediately — plus the chance to win door prizes while expanding your professional network/ \nSeats are limited — register today to secure your spot at the PTC/User Huntsville event. \n\n       \n    0
URL:https://www.tristar.com/event/ptc-user-huntsville-alabama/
LOCATION:i3 Huntsville\, 8000 Rideout Road\, Huntsville\, AL\, 35808\, United States
CATEGORIES:Live Events
ATTACH;FMTTYPE=image/png:https://www.tristar.com/wp-content/uploads/2025/08/PTC-AL-October-2nd-1.png
END:VEVENT
BEGIN:VEVENT
DTSTART;TZID=America/New_York:20251016T110000
DTEND;TZID=America/New_York:20251016T120000
DTSTAMP:20260421T083251
CREATED:20250903T153232Z
LAST-MODIFIED:20250922T191842Z
UID:33587-1760612400-1760616000@www.tristar.com
SUMMARY:Design Smarter & Simplify Data Management
DESCRIPTION:Eliminate Design Errors: How ECAD‑PLM Integration Transforms Your Workflow.Outdated schematics\, version chaos\, and compliance surprises cost real money – one team lost 5 engineers × 3 days to a single missed update. \nIn this free webinar\, learn how to make every ECAD change instantly visible\, traceable\, and shareable across electrical\, mechanical\, and product teams – so BOMs align\, and releases stay on schedule. \nIn this webinar\, you’ll learn how to: \n\nPlug ECAD into change\, release\, and BOM workflows \n\nSync libraries to block obsolete/non‑compliant parts \n\nCut duplication\, prevent rework\, and accelerate time‑to‑market \nDiscover how the correct use of Windchill can help your organization reduce risks and boost efficiency by ensuring that each component of your documentation serves its intended purpose. Join us to transform the way you manage design documentation and physical parts for a smoother\, more effective workflow. \nRegister Now \n\n  \n\n\n\n\n\n\n\n\n\n\n\n\n\n\n\n\n \n\n\n\n\n\n\nNumber of Employees\n1-2021-5051-100101-250251-500501-1\,0001\,001-5\,0005\,001-10\,000More than 10\,000\n\n\n\nSubscribe to our newsletter\n\n\n\n\n\n\n\n\n\n\n\n\nΔ ×\n\n\n 0
URL:https://www.tristar.com/event/design-smarter-simplify-data-management/
CATEGORIES:Webinar
ATTACH;FMTTYPE=image/png:https://www.tristar.com/wp-content/uploads/2025/09/Webinar-XPLM-September-25-website-v2.png
END:VEVENT
END:VCALENDAR