BEGIN:VCALENDAR
VERSION:2.0
PRODID:-//TriStar Digital Thread Solutions - ECPv6.15.20//NONSGML v1.0//EN
CALSCALE:GREGORIAN
METHOD:PUBLISH
X-ORIGINAL-URL:https://www.tristar.com
X-WR-CALDESC:Events for TriStar Digital Thread Solutions
REFRESH-INTERVAL;VALUE=DURATION:PT1H
X-Robots-Tag:noindex
X-PUBLISHED-TTL:PT1H
BEGIN:VTIMEZONE
TZID:America/Chicago
BEGIN:DAYLIGHT
TZOFFSETFROM:-0600
TZOFFSETTO:-0500
TZNAME:CDT
DTSTART:20240310T080000
END:DAYLIGHT
BEGIN:STANDARD
TZOFFSETFROM:-0500
TZOFFSETTO:-0600
TZNAME:CST
DTSTART:20241103T070000
END:STANDARD
BEGIN:DAYLIGHT
TZOFFSETFROM:-0600
TZOFFSETTO:-0500
TZNAME:CDT
DTSTART:20250309T080000
END:DAYLIGHT
BEGIN:STANDARD
TZOFFSETFROM:-0500
TZOFFSETTO:-0600
TZNAME:CST
DTSTART:20251102T070000
END:STANDARD
BEGIN:DAYLIGHT
TZOFFSETFROM:-0600
TZOFFSETTO:-0500
TZNAME:CDT
DTSTART:20260308T080000
END:DAYLIGHT
BEGIN:STANDARD
TZOFFSETFROM:-0500
TZOFFSETTO:-0600
TZNAME:CST
DTSTART:20261101T070000
END:STANDARD
END:VTIMEZONE
BEGIN:VEVENT
DTSTART;TZID=America/Chicago:20250925T120000
DTEND;TZID=America/Chicago:20250925T130000
DTSTAMP:20260419T140910
CREATED:20250910T172416Z
LAST-MODIFIED:20250910T172416Z
UID:33643-1758801600-1758805200@www.tristar.com
SUMMARY:Badgerland PTC/User Lunch and Learn
DESCRIPTION:Register NowEvent OverviewJoin the Badgerland PTC/User community for a special Lunch and Learn session\, hosted in partnership with TriStar Digital Thread Solutions. This event brings local PTC users together to network\, share knowledge\, and explore practical ways to maximize value from your engineering and product lifecycle tools. \nTriStar will lead a focused discussion on Engaging Enterprise Data Access with Windchill Navigate\, along with conversations around PLM best practices\, MPM Process Plans\, and a hands-on look at the TriStar Review Change App. Whether you are new to these solutions or looking to expand adoption across your teams\, this session will deliver insights you can put to use immediately. \nWhy AttendAttendees will gain practical insights directly from TriStar’s experts\, who will share real-world use cases and proven approaches to improving efficiency and data visibility. You’ll also see how Windchill Navigate and TriStar’s custom apps simplify access to enterprise data\, making collaboration easier across the business. The session will highlight how MPM process plans support a stronger PLM strategy while connecting seamlessly to the digital thread. In addition to learning\, you’ll have the opportunity to connect with fellow engineers\, designers\, and PLM professionals in the Badgerland community. \nAgendaThe Lunch and Learn will open with an opportunity for networking and conversation among local PTC users. TriStar’s team will then lead a discussion on how organizations can expand access to enterprise data through Windchill Navigate\, providing role-based\, simplified visibility into critical product information. \nThe session will also cover strategies for improving product lifecycle management with a focus on MPM Process Plans and how they align with broader digital thread initiatives. To bring these concepts to life\, TriStar will showcase the Review Change App\, designed to streamline change management and make collaboration more effective within Windchill. The event will conclude with an open discussion and Q&A\, giving participants a chance to exchange ideas and share experiences with both TriStar experts and fellow attendees. \nWho Should Attend?This event is designed for professionals who want to get more from their PTC tools and strategies. Engineers and designers using Creo and Windchill will benefit from practical demonstrations\, while PLM administrators and champions can learn new ways to expand adoption and usability. Manufacturing process planners\, quality managers\, and anyone interested in advancing digital thread initiatives will also find value in attending. \nReserve your spot today to join us on September 25 at 12:00 PM CST. \nRegister Now 0
URL:https://www.tristar.com/event/badgerland-ptc-user-lunch-and-learn/
LOCATION:https://us06web.zoom.us/j/88995521512?pwd=IouKZKwnOaYIcL0qGwaZk65xX59UzP.1
ATTACH;FMTTYPE=image/png:https://www.tristar.com/wp-content/uploads/2025/09/PTCUser-Badgerland-Webinar.png
END:VEVENT
END:VCALENDAR