BEGIN:VCALENDAR
VERSION:2.0
PRODID:-//TriStar Digital Thread Solutions - ECPv6.15.20//NONSGML v1.0//EN
CALSCALE:GREGORIAN
METHOD:PUBLISH
X-ORIGINAL-URL:https://www.tristar.com
X-WR-CALDESC:Events for TriStar Digital Thread Solutions
REFRESH-INTERVAL;VALUE=DURATION:PT1H
X-Robots-Tag:noindex
X-PUBLISHED-TTL:PT1H
BEGIN:VTIMEZONE
TZID:America/New_York
BEGIN:DAYLIGHT
TZOFFSETFROM:-0500
TZOFFSETTO:-0400
TZNAME:EDT
DTSTART:20240310T070000
END:DAYLIGHT
BEGIN:STANDARD
TZOFFSETFROM:-0400
TZOFFSETTO:-0500
TZNAME:EST
DTSTART:20241103T060000
END:STANDARD
BEGIN:DAYLIGHT
TZOFFSETFROM:-0500
TZOFFSETTO:-0400
TZNAME:EDT
DTSTART:20250309T070000
END:DAYLIGHT
BEGIN:STANDARD
TZOFFSETFROM:-0400
TZOFFSETTO:-0500
TZNAME:EST
DTSTART:20251102T060000
END:STANDARD
BEGIN:DAYLIGHT
TZOFFSETFROM:-0500
TZOFFSETTO:-0400
TZNAME:EDT
DTSTART:20260308T070000
END:DAYLIGHT
BEGIN:STANDARD
TZOFFSETFROM:-0400
TZOFFSETTO:-0500
TZNAME:EST
DTSTART:20261101T060000
END:STANDARD
END:VTIMEZONE
BEGIN:VEVENT
DTSTART;TZID=America/New_York:20251104T110000
DTEND;TZID=America/New_York:20251104T123000
DTSTAMP:20260419T122907
CREATED:20251022T173728Z
LAST-MODIFIED:20251022T173728Z
UID:33862-1762254000-1762259400@www.tristar.com
SUMMARY:Windchill 13: Powering the Intelligent Product Lifecycle
DESCRIPTION:Register NowJoin us for Windchill 13: Powering the Intelligent Product Lifecycle\, an exclusive online session designed for PLM professionals\, engineering leadership and manufacturing innovators. This event shines a light on how Windchill 13 is enabling organizations to work smarter\, faster and more sustainably\, from initial concept through to product launch. \nDuring the session\, you’ll explore the modernized user experience and enterprise-wide enhancements that define Windchill 13. These include a refreshed UI/UX built for focus and productivity\, supplier-collaboration and work-instruction capabilities tailored for manufacturing\, new materials and BOM tools aligned with sustainability goals\, and a SaaS deployment model featuring AI-priority strategy and frequent release cadence. \nWhether you’re deeply experienced in PLM or just beginning to modernize your product development ecosystem\, this event will deliver practical insight and a strategic overview of how Windchill 13 can transform your workflows\, speed time-to-market and strengthen your product data foundation. Reserve your spot today and step into the next generation of product lifecycle management. \nSpeakers Hear from top-tier PLM experts at PTC — including leaders such as John Haller\, General Manager of PLM\, and Mark Lobo\, Senior Vice President of PLM Product Management — who will deliver the latest roadmap insights and live demonstrations of what’s coming next. \nDon’t miss this opportunity to gain front-row access to the future of PLM. Register now to secure your virtual seat at Windchill 13 and position your organization for smarter innovation\, improved collaboration and accelerated product development. \nRegister Now 0
URL:https://www.tristar.com/event/windchill-13-plm-event/
CATEGORIES:Webinar
ATTACH;FMTTYPE=image/jpeg:https://www.tristar.com/wp-content/uploads/2025/10/iStock-2193635891.jpg
END:VEVENT
BEGIN:VEVENT
DTSTART;TZID=America/New_York:20251112T100000
DTEND;TZID=America/New_York:20251112T113000
DTSTAMP:20260419T122907
CREATED:20251022T173557Z
LAST-MODIFIED:20251022T173557Z
UID:33848-1762941600-1762947000@www.tristar.com
SUMMARY:Mathcad Prime 12 Live Demo & Q&A | PTC Mathcad Event
DESCRIPTION:The latest information on what’s coming in Mathcad Prime!Join Andrew McGough\, PTC Mathcad’s Director of Product Management\, on November 12\, 2025\, for a one-hour live demo and Q&A session exploring what’s next for PTC Mathcad Prime. Andy will walk through the latest updates in Mathcad Prime 11.0.1.0\, share insight into the current development roadmap\, and provide an exclusive look at several exciting features coming in Mathcad Prime 12\, scheduled for release in early 2026. He’ll also answer audience questions during a live Q&A. Whether you’re a longtime Mathcad user or exploring engineering calculation tools for the first time\, this session offers a front-row seat to the evolution of Mathcad. The event will be recorded\, and a replay will be available afterwards. \nRegister NowSpeaker Director of Product Management\, PTC  0
URL:https://www.tristar.com/event/mathcad-prime-12-live-demo/
CATEGORIES:Webinar
ATTACH;FMTTYPE=image/jpeg:https://www.tristar.com/wp-content/uploads/2025/10/iStock-2185696995.jpg
END:VEVENT
END:VCALENDAR