BEGIN:VCALENDAR
VERSION:2.0
PRODID:-//TriStar Digital Thread Solutions - ECPv6.15.20//NONSGML v1.0//EN
CALSCALE:GREGORIAN
METHOD:PUBLISH
X-ORIGINAL-URL:https://www.tristar.com
X-WR-CALDESC:Events for TriStar Digital Thread Solutions
REFRESH-INTERVAL;VALUE=DURATION:PT1H
X-Robots-Tag:noindex
X-PUBLISHED-TTL:PT1H
BEGIN:VTIMEZONE
TZID:America/Denver
BEGIN:DAYLIGHT
TZOFFSETFROM:-0700
TZOFFSETTO:-0600
TZNAME:MDT
DTSTART:20240310T090000
END:DAYLIGHT
BEGIN:STANDARD
TZOFFSETFROM:-0600
TZOFFSETTO:-0700
TZNAME:MST
DTSTART:20241103T080000
END:STANDARD
BEGIN:DAYLIGHT
TZOFFSETFROM:-0700
TZOFFSETTO:-0600
TZNAME:MDT
DTSTART:20250309T090000
END:DAYLIGHT
BEGIN:STANDARD
TZOFFSETFROM:-0600
TZOFFSETTO:-0700
TZNAME:MST
DTSTART:20251102T080000
END:STANDARD
BEGIN:DAYLIGHT
TZOFFSETFROM:-0700
TZOFFSETTO:-0600
TZNAME:MDT
DTSTART:20260308T090000
END:DAYLIGHT
BEGIN:STANDARD
TZOFFSETFROM:-0600
TZOFFSETTO:-0700
TZNAME:MST
DTSTART:20261101T080000
END:STANDARD
END:VTIMEZONE
BEGIN:VTIMEZONE
TZID:America/Chicago
BEGIN:DAYLIGHT
TZOFFSETFROM:-0600
TZOFFSETTO:-0500
TZNAME:CDT
DTSTART:20240310T080000
END:DAYLIGHT
BEGIN:STANDARD
TZOFFSETFROM:-0500
TZOFFSETTO:-0600
TZNAME:CST
DTSTART:20241103T070000
END:STANDARD
BEGIN:DAYLIGHT
TZOFFSETFROM:-0600
TZOFFSETTO:-0500
TZNAME:CDT
DTSTART:20250309T080000
END:DAYLIGHT
BEGIN:STANDARD
TZOFFSETFROM:-0500
TZOFFSETTO:-0600
TZNAME:CST
DTSTART:20251102T070000
END:STANDARD
BEGIN:DAYLIGHT
TZOFFSETFROM:-0600
TZOFFSETTO:-0500
TZNAME:CDT
DTSTART:20260308T080000
END:DAYLIGHT
BEGIN:STANDARD
TZOFFSETFROM:-0500
TZOFFSETTO:-0600
TZNAME:CST
DTSTART:20261101T070000
END:STANDARD
END:VTIMEZONE
BEGIN:VTIMEZONE
TZID:America/New_York
BEGIN:DAYLIGHT
TZOFFSETFROM:-0500
TZOFFSETTO:-0400
TZNAME:EDT
DTSTART:20240310T070000
END:DAYLIGHT
BEGIN:STANDARD
TZOFFSETFROM:-0400
TZOFFSETTO:-0500
TZNAME:EST
DTSTART:20241103T060000
END:STANDARD
BEGIN:DAYLIGHT
TZOFFSETFROM:-0500
TZOFFSETTO:-0400
TZNAME:EDT
DTSTART:20250309T070000
END:DAYLIGHT
BEGIN:STANDARD
TZOFFSETFROM:-0400
TZOFFSETTO:-0500
TZNAME:EST
DTSTART:20251102T060000
END:STANDARD
BEGIN:DAYLIGHT
TZOFFSETFROM:-0500
TZOFFSETTO:-0400
TZNAME:EDT
DTSTART:20260308T070000
END:DAYLIGHT
BEGIN:STANDARD
TZOFFSETFROM:-0400
TZOFFSETTO:-0500
TZNAME:EST
DTSTART:20261101T060000
END:STANDARD
END:VTIMEZONE
BEGIN:VEVENT
DTSTART;VALUE=DATE:20250904
DTEND;VALUE=DATE:20250905
DTSTAMP:20260421T112442
CREATED:20250812T191608Z
LAST-MODIFIED:20250812T193946Z
UID:33501-1756944000-1757030399@www.tristar.com
SUMMARY:Accelerating Product Development: PTC Live Event in Fort Collins
DESCRIPTION:Fuel Your Digital Transformation – Live at Woodward HQOn September 2nd\, join us at Woodward HQ in Fort Collins\, CO\, for a full day of strategies\, insights\, and connections designed to help you stay competitive and bring products to market faster. You’ll hear directly from PTC leadership\, industry innovators\, and our very own Andrew Burke\, Director of Digital Transformation at TriStar\, as they share proven approaches to accelerating the digital thread. \nThis one-day event is packed with high-impact sessions\, including: \n\nThe Intelligent Product Lifecycle with Steve Dertien\, EVP at PTC \n\nThe Journey from eBOM to mBOM with experts from Cirrus \n\nAn SLM Windchill Story with Andrew Burke from TriStar \n\nThe Windchill Product Roadmap with John Haller\, GM at PTC \n\nDigital Firepower: Leading Digital Transformation in Aerospace & Defense with Danny Poisson\, CTO at PTC \nPlus\, enjoy networking over breakfast\, engaging customer case studies\, and an off-site brewery gathering to close the day. \nSeats are limited—register now to reserve your spot and we’ll follow up to confirm your attendance. \nRegister Now! 0
URL:https://www.tristar.com/event/accelerating-product-development-ptc-live-event-in-fort-collins/
LOCATION:Woodword HQ\, 1081 Woodward Way\, Fort Collins\, 80524\, United States
CATEGORIES:Live Events
ATTACH;FMTTYPE=image/jpeg:https://www.tristar.com/wp-content/uploads/2024/07/shutterstock_1699780507.jpg
END:VEVENT
BEGIN:VEVENT
DTSTART;VALUE=DATE:20250916
DTEND;VALUE=DATE:20250917
DTSTAMP:20260421T112442
CREATED:20250812T222935Z
LAST-MODIFIED:20250812T222935Z
UID:33508-1757980800-1758067199@www.tristar.com
SUMMARY:MedTech Exchange Minneapolis – Live PTC Event
DESCRIPTION:Power Your MedTech StrategyJoin MedTech leaders\, PTC executives\, and industry innovators for a day of strategies\, insights\, and networking designed to help you stay ahead in an increasingly complex and regulated industry. Explore how digital thread capabilities—spanning PLM\, ALM\, SaaS\, and AI—are enabling compliance\, cost savings\, and faster product innovation. \nKick things off with an exclusive pre-event gathering at Target Field\, then dive into a program packed with expert discussions\, customer success stories\, and actionable takeaways tailored for the MedTech sector. \nWhy Attend?This one-day event delivers practical insights for MedTech leaders looking to improve compliance\, cut costs\, and accelerate innovation. Through a mix of presentations\, customer stories\, and networking\, you’ll see how PLM\, ALM\, SaaS\, and AI technologies are transforming the industry—and walk away with strategies you can put into action immediately. \nJoin us on September 16th where you’ll experience a blend of keynotes\, expert panels\, and fireside chats covering: \n\nData mastery from eBOM to mBOM \n\nOperational efficiency across PLM and manufacturing \n\nService strategies to reduce cost and improve outcomes \n\nReal-world applications of AI in MedTech \n\nThe latest PTC portfolio updates and roadmaps \nSpeakersHear from top PTC executives\, seasoned MedTech experts\, and leaders from some of the industry’s most innovative companies. Our lineup includes voices from PTC\, Johnson & Johnson MedTech\, CooperSurgical\, Bayer\, Edwards Lifesciences\, and MDIC\, sharing real-world experiences and forward-looking strategies to help you succeed. \nRegister Now! 0
URL:https://www.tristar.com/event/medtech-exchange-minneapolis-live-ptc-event/
LOCATION:Northstar Center Minneapolis\, 625 S Marquette Ave\, Minneapolis\, MN\, 55402\, United States
CATEGORIES:Live Events
ATTACH;FMTTYPE=image/jpeg:https://www.tristar.com/wp-content/uploads/2025/04/shutterstock_1936499983.jpg
END:VEVENT
BEGIN:VEVENT
DTSTART;TZID=America/New_York:20250930T140000
DTEND;TZID=America/New_York:20250930T190000
DTSTAMP:20260421T112442
CREATED:20250818T165005Z
LAST-MODIFIED:20250819T194355Z
UID:33536-1759240800-1759258800@www.tristar.com
SUMMARY:PTC/USER Florida Event at Topgolf St. Petersburg
DESCRIPTION:An Afternoon of Insights\, Innovation\, Free Dinner\, Top Golf\, and NetworkingJoin McCormick Stevenson\, Florida PTC/User\, and industry experts for an interactive afternoon of technical sessions\, live demos\, and community networking. This event brings together Creo and Windchill users for hands-on learning\, practical strategies\, and a chance to connect with peers in a relaxed setting at Topgolf St. Petersburg. \nFrom advanced modeling and AI for product development to the transition toward part-centric and MBD practices\, this program is built to help engineering and product lifecycle professionals sharpen their skills and discover new ways to accelerate development. \nA BBQ buffet dinner will be provided to all attendees! Why Attend?This event blends expert-led presentations with community learning and networking. You’ll see live demonstrations of the latest Creo and Windchill capabilities\, explore part-centric and MBD workflows\, and learn how AI is being applied in engineering. With opportunities for Q&A\, dinner\, and informal networking\, it’s the perfect balance of education and community connection. Agenda OverviewCREO – “You Think You Know Sheetmetal?”Unlock advanced and time-saving features in Creo Sheetmetal to improve accuracy and efficiency. \nMBD & PLMMoving Drawings Totally to Part Centric & MBD\, Including Assembly Drawings. \nAI for Creo and WindchillSee how artificial intelligence is enhancing design and lifecycle management workflows. \nWindchill Navigate DemoLive demo with the TriStar Review Change App. \nCreo Advanced Modeling TechniquesLearn flexible modeling techniques to build smarter designs and adapt faster. \nDinner BreakEnjoy a buffet-style dinner with peers before the evening sessions. \nQ&A\, Wrap-Up\, and Door PrizesEnd the day with open discussion\, community connection\, and giveaways. \nTop Golf Gameplay & NetworkingFrom 7:00-9:00pm Register TodaySpace is limited for this interactive MCCST event. Sign up now to reserve your spot and join us for an afternoon of learning\, networking\, and community at Topgolf. \n       \n    0
URL:https://www.tristar.com/event/ptc-user-florida-event-at-topgolf-st-petersburg/
LOCATION:Top Golf St Petersburg\, 220 Carillon Pkwy\, St. Petersburg\, FL\, 33716\, United States
CATEGORIES:Live Events,TriStar Events/Webinars
ATTACH;FMTTYPE=image/png:https://www.tristar.com/wp-content/uploads/2025/08/PTC-FL-September-30th-1-1.png
END:VEVENT
END:VCALENDAR