BEGIN:VCALENDAR
VERSION:2.0
PRODID:-//TriStar Digital Thread Solutions - ECPv6.15.20//NONSGML v1.0//EN
CALSCALE:GREGORIAN
METHOD:PUBLISH
X-WR-CALNAME:TriStar Digital Thread Solutions
X-ORIGINAL-URL:https://www.tristar.com
X-WR-CALDESC:Events for TriStar Digital Thread Solutions
REFRESH-INTERVAL;VALUE=DURATION:PT1H
X-Robots-Tag:noindex
X-PUBLISHED-TTL:PT1H
BEGIN:VTIMEZONE
TZID:America/New_York
BEGIN:DAYLIGHT
TZOFFSETFROM:-0500
TZOFFSETTO:-0400
TZNAME:EDT
DTSTART:20240310T070000
END:DAYLIGHT
BEGIN:STANDARD
TZOFFSETFROM:-0400
TZOFFSETTO:-0500
TZNAME:EST
DTSTART:20241103T060000
END:STANDARD
BEGIN:DAYLIGHT
TZOFFSETFROM:-0500
TZOFFSETTO:-0400
TZNAME:EDT
DTSTART:20250309T070000
END:DAYLIGHT
BEGIN:STANDARD
TZOFFSETFROM:-0400
TZOFFSETTO:-0500
TZNAME:EST
DTSTART:20251102T060000
END:STANDARD
BEGIN:DAYLIGHT
TZOFFSETFROM:-0500
TZOFFSETTO:-0400
TZNAME:EDT
DTSTART:20260308T070000
END:DAYLIGHT
BEGIN:STANDARD
TZOFFSETFROM:-0400
TZOFFSETTO:-0500
TZNAME:EST
DTSTART:20261101T060000
END:STANDARD
END:VTIMEZONE
BEGIN:VEVENT
DTSTART;TZID=America/New_York:20251210T100000
DTEND;TZID=America/New_York:20251210T113000
DTSTAMP:20260421T081557
CREATED:20251118T161516Z
LAST-MODIFIED:20251118T170104Z
UID:33957-1765360800-1765366200@www.tristar.com
SUMMARY:Arbortext Release Highlights: What’s New and Noteworthy
DESCRIPTION:Your Guide to the Latest Arbortext UpdatesJoin us on December 10\, 2025\, for a 90-minute walkthrough of the newest updates across the Arbortext portfolio\, including Arbortext Editor\, Styler\, Publishing Engine\, Layout Developer\, Layout Editor\, Windchill Service Information\, Service Parts\, and Arbortext Content Delivery. This session is ideal for technical authors\, documentation specialists\, service-information teams\, and system administrators who rely on Arbortext to manage structured content and support their digital-thread workflows. You’ll hear directly from the product team\, learn how the latest enhancements strengthen documentation and publishing processes\, and get your questions answered during a live Q&A. \nDuring this session\, the Arbortext Product Management team will highlight the most important updates and show how they affect your day-to-day documentation workflows. \n\nKey enhancements across Arbortext Editor\, Styler\, Publishing Engine\, Layout Developer\, and Layout Editor \n\nUpdates within Windchill Service Information\, Service Parts\, and Arbortext Content Delivery \n\nPractical guidance on upgrade planning and how these releases support stronger service-content delivery \nDiscover how the correct use of Windchill can help your organization reduce risks and boost efficiency by ensuring that each component of your documentation serves its intended purpose. Join us to transform the way you manage design documentation and physical parts for a smoother\, more effective workflow. \nSpeakers You’ll hear directly from the Arbortext leadership team: Gil Shroitman\, Director of Arbortext Product Management; Simon Taylor\, Arbortext Principal Product Manager; and Brent Kelly\, Technical Product Management Fellow. Together\, they’ll walk through the latest updates\, share roadmap context\, and answer your questions live. \nRegister Now 0
URL:https://www.tristar.com/event/arbortext-release-highlights-webinar/
CATEGORIES:Webinar
ATTACH;FMTTYPE=image/jpeg:https://www.tristar.com/wp-content/uploads/2025/10/iStock-2166573931.jpg
END:VEVENT
BEGIN:VEVENT
DTSTART;TZID=America/New_York:20251218T110000
DTEND;TZID=America/New_York:20251218T120000
DTSTAMP:20260421T081557
CREATED:20251209T163248Z
LAST-MODIFIED:20251209T164045Z
UID:34291-1766055600-1766059200@www.tristar.com
SUMMARY:Optimize Windchill with the Right Organization & Context Strategy
DESCRIPTION:Register NowOverviewJoin us on December 18 at 11:00 a.m. EST for a focused look at how the right Organization and Context strategy sets the foundation for success in Windchill. Teams move faster when data lives in the right place\, access aligns with responsibility\, and collaboration flows cleanly from concept to release. This session walks through how a smart structure supports every part of your digital product lifecycle. You’ll see how structure shapes security\, improves data reuse\, strengthens workflow control\, and scales with your business. \nWhy This MattersWithout a strong framework\, even a powerful PLM system can slow teams down. Siloed product data creates rework. Disorganized access drags out reviews. Poor visibility increases risk. During this webinar\, you’ll see how a clear Organization and Context strategy keeps information clean\, aligned\, and ready for global collaboration. You’ll leave with practical ideas that reduce friction and help your team use Windchill more confidently. \nWhat You’ll LearnIn this live session\, you’ll see how a strong structure in Windchill supports better teamwork and cleaner data. You’ll learn how to boost collaboration with clear access rules\, reuse product data with confidence to cut duplicate work\, and simplify lifecycle and workflow control to keep projects moving without friction. \nWho Should AttendEngineering managers\, Windchill administrators\, product owners\, and leaders responsible for product data will gain value from this session. If you want Windchill to scale smoothly as your business grows\, this webinar will give you a clear path to a stronger structure. \nReserve your spot for December 18 at 11:00 a.m. EST and bring your questions. Join TriStar and learn how a well-planned Organization and Context strategy helps you get more value from every Windchill investment \nSpeaker Bryan EnabnitVP of Customer Success\, TriStar Register Now \n\n  \n\n\n\n\n\n\n\n\n\n\n\n\n\n\n\n\n \n\n\n\n\n\n\nNumber of Employees\n1-2021-5051-100101-250251-500501-1\,0001\,001-5\,0005\,001-10\,000More than 10\,000\n\n\n\nSubscribe to our newsletter\n\n\n\n\n\n\n\n\n\n\n\n\nΔ ×\n\n\n 0
URL:https://www.tristar.com/event/windchill-organization-context-strategy-webinar/
CATEGORIES:TriStar Events/Webinars
ATTACH;FMTTYPE=image/jpeg:https://www.tristar.com/wp-content/uploads/2025/10/iStock-2193033182.jpg
END:VEVENT
END:VCALENDAR