BEGIN:VCALENDAR
VERSION:2.0
PRODID:-//TriStar Digital Thread Solutions - ECPv6.15.20//NONSGML v1.0//EN
CALSCALE:GREGORIAN
METHOD:PUBLISH
X-ORIGINAL-URL:https://www.tristar.com
X-WR-CALDESC:Events for TriStar Digital Thread Solutions
REFRESH-INTERVAL;VALUE=DURATION:PT1H
X-Robots-Tag:noindex
X-PUBLISHED-TTL:PT1H
BEGIN:VTIMEZONE
TZID:America/New_York
BEGIN:DAYLIGHT
TZOFFSETFROM:-0500
TZOFFSETTO:-0400
TZNAME:EDT
DTSTART:20240310T070000
END:DAYLIGHT
BEGIN:STANDARD
TZOFFSETFROM:-0400
TZOFFSETTO:-0500
TZNAME:EST
DTSTART:20241103T060000
END:STANDARD
BEGIN:DAYLIGHT
TZOFFSETFROM:-0500
TZOFFSETTO:-0400
TZNAME:EDT
DTSTART:20250309T070000
END:DAYLIGHT
BEGIN:STANDARD
TZOFFSETFROM:-0400
TZOFFSETTO:-0500
TZNAME:EST
DTSTART:20251102T060000
END:STANDARD
BEGIN:DAYLIGHT
TZOFFSETFROM:-0500
TZOFFSETTO:-0400
TZNAME:EDT
DTSTART:20260308T070000
END:DAYLIGHT
BEGIN:STANDARD
TZOFFSETFROM:-0400
TZOFFSETTO:-0500
TZNAME:EST
DTSTART:20261101T060000
END:STANDARD
END:VTIMEZONE
BEGIN:VEVENT
DTSTART;TZID=America/New_York:20251120T110000
DTEND;TZID=America/New_York:20251120T123000
DTSTAMP:20260419T095221
CREATED:20251022T173436Z
LAST-MODIFIED:20251022T173436Z
UID:33855-1763636400-1763641800@www.tristar.com
SUMMARY:Virtual Industrials Exchange – Shaping the Future of Manufacturing
DESCRIPTION:Register NowJoin us for the Virtual Industrials Exchange\, a one-hour online event bringing together PTC and industry leaders to discuss how digital transformation\, AI\, and servitization are redefining industrial innovation. On November 20\, 2025\, at 11:00 AM ET\, manufacturing and service professionals will explore real-world strategies that connect products\, processes\, and people across the enterprise. Whether your goal is to accelerate design cycles\, expand service revenue\, or strengthen product-to-service continuity\, this virtual exchange delivers insights to move your business forward. \nExpect thought provoking discussions and live sessions covering: \n\nHow manufacturers are using AI to optimize and enhance product performance. \n\nReal-world examples of connected product-lifecycle strategies that unify design\, manufacturing\, and service. \n\nThe rise of servitization and how it’s transforming customer relationships into long-term growth opportunities. \nEach session delivers actionable takeaways\, not theory — helping your teams turn digital innovation into measurable value. \nSpeakers Hear from a distinguished panel of PTC and industry experts\, including leaders from Microsoft\, Caterpillar\, and PTC’s AI and Servigistics divisions. Featured speakers such as Eric Froebel\, Ayora Berry\, Sumair Dutta\, Leslie Paulson\, and Guy Bursell bring decades of combined experience across product lifecycle management\, artificial intelligence\, field service\, and manufacturing strategy. Together\, they’ll share diverse perspectives and proven approaches to driving efficiency\, innovation\, and growth in today’s industrial landscape. \nDon’t miss this opportunity to gain insight from the people shaping the next era of manufacturing. Register now to save your seat at the Virtual Industrials Exchange and take part in the conversation shaping the future of connected industry. \nRegister Now 0
URL:https://www.tristar.com/event/virtual-industrials-exchange-2025/
CATEGORIES:Virtual Events
ATTACH;FMTTYPE=image/jpeg:https://www.tristar.com/wp-content/uploads/2025/10/750x500-835950-Industrial-Exchange-Webcast-3-col-report-100225-3.jpeg
END:VEVENT
END:VCALENDAR